BEGIN:VCALENDAR
PRODID:NingEventWidget-v1
VERSION:2.0
METHOD:PUBLISH
BEGIN:VTIMEZONE
TZID:America/New_York
X-LIC-LOCATION:America/New_York
BEGIN:DAYLIGHT
TZOFFSETFROM:-0500
TZOFFSETTO:-0400
TZNAME:EDT
DTSTART:19700308T020000
RRULE:FREQ=YEARLY;BYMONTH=3;BYDAY=2SU
END:DAYLIGHT
BEGIN:STANDARD
TZOFFSETFROM:-0400
TZOFFSETTO:-0500
TZNAME:EST
DTSTART:19701101T020000
RRULE:FREQ=YEARLY;BYMONTH=11;BYDAY=1SU
END:STANDARD
END:VTIMEZONE
BEGIN:VEVENT
UID:3909409:Event:21311
DTSTAMP:20260420T233531Z
SUMMARY:Professional Tapping Skills - Levels 1&2
DESCRIPTION:These are the foundational class for learning professional
  EFT/Tapping:  \r\nYou’re introduced to the body’s energy system,
  how to access it, experience EFT’s basic forms first-hand and pract
 ice with partners. \r\nYou’ll also learn EFT’s history, the basic
  protocols derived from EFT’s ancestors, TFT and the Acupuncture mer
 idian system, foundational EFT concepts and terms, the original basic 
 recipe and short-cut method, and extra, optional points as well as the
  philosophies behind when we use what technique. The foundations class
  includes hands-on learning of the basic tools and skills, upon which 
 all other classes build.\r\nYou’ll learn how to easily take care of\
 r\n\r\nsimple pains and negative emotions,\r\nthings that push your  
 buttons, and\r\nhow to gain clarity on troubling situations\r\nhow to 
 use EFT on everyday life circumstances and\r\ngain hands-on, interacti
 ve practice with others\r\n\r\nIn response to many requests, this clas
 s is a COMBINATION of foundations Level 1 and practical fundamentals, 
 Level 2.  Conceived as a time-saving, deep-dive course into learning 
 about how, when and why to apply Tapping, we’ve taken the foundation
 al 2-day Level 1 EFT course and added the Level 2 fundamentals EFT cou
 rse.  We’ve also added pre- and post-course material, in order to a
 chieve a 4-day instruction within a 3-day weekend format.  The extra 
 hours of 4th day  instruction are presented in online hand-outs, read
 ing materials and response forms, and a live, post-class mentoring cal
 l with topics and plenty of Q&A, once the attendee has had a chance to
  use the material in their own life or practice.\r\nThis is our most p
 opular course, due to its time and money saving design, as well as its
  follow-up mentoring.  \r\nCompletion of EFT Levels 1&2 classroom ins
 truction are the gateway to entering the professional mentoring for ce
 rtification process. (There is more about that on the Certification pa
 ge of this site.)\r\nYou’ll find further cost-savings below when you
  rsvp to reserve your place; early-bird sign-ups will receive a full $
 100 off this already discounted tuition, by paying before 2/22. Just g
 rab a ticket below, and only pay $599. Link onsite: www.JondiWhitis.co
 m/training\r\nNote:  If you’ve taken this EFT Level 1 or 2 class be
 fore with Jondi, and want to repeat it, contact me and she’ll be hap
 py to arrange for a half-price ticket! : )  Contact: Jondi@eft4Result
 s.com\n\nFor more information visit http://tappingstar.com/events/prof
 essional-tapping-skills-levels-1-2
DTSTART;TZID=America/New_York:20190301T090000
DTEND;TZID=America/New_York:20190303T170000
CATEGORIES:in, person, hands-on, workshop
LOCATION:Atlanta area
WEBSITE:http://Jondiwhitis.com/training
URL:http://Jondiwhitis.com/training
CONTACT:347-967-6444
ORGANIZER;CN="Jondi Whitis":http://tappingstar.com/profile/JondiWhitis
ATTACH;FMTTYPE="image/jpeg":https://storage.ning.com/topology/rest/1.0
 /file/get/847986225?profile=original
ATTENDEE;ROLE=REQ-PARTICIPANT;PARTSTAT=ACCEPTED;RSVP=TRUE;CN="Jondi Wh
 itis":http://tappingstar.com/profile/JondiWhitis
END:VEVENT
END:VCALENDAR
