BEGIN:VCALENDAR
PRODID:NingEventWidget-v1
VERSION:2.0
METHOD:PUBLISH
BEGIN:VTIMEZONE
TZID:America/New_York
X-LIC-LOCATION:America/New_York
BEGIN:DAYLIGHT
TZOFFSETFROM:-0500
TZOFFSETTO:-0400
TZNAME:EDT
DTSTART:19700308T020000
RRULE:FREQ=YEARLY;BYMONTH=3;BYDAY=2SU
END:DAYLIGHT
BEGIN:STANDARD
TZOFFSETFROM:-0400
TZOFFSETTO:-0500
TZNAME:EST
DTSTART:19701101T020000
RRULE:FREQ=YEARLY;BYMONTH=11;BYDAY=1SU
END:STANDARD
END:VTIMEZONE
BEGIN:VEVENT
UID:3909409:Event:3202
DTSTAMP:20260421T025137Z
SUMMARY:Chakra Tapping: Find the Star Within!
DESCRIPTION:Are you aware of some limiting beliefs youhave that may be
  holding you back?Do you seem to be bumping your head on the same issu
 es?Is it difficult for you to manifest your heart's desire?Join me for
  7 weeks of Chakra Tapping in a series called, \"Find the Star Within\
 ".  We'll be exploringthe negative vows you have made unconsciously h
 elp you transform these beliefs, and discover the Star within so you c
 an manifest your dreams.This series is for anyone who is really ready 
 to change their money imprint/conditioning, wants to discover their pu
 rpose,who wants to change their relationships with themselves and othe
 rs.Click here to learn more!\n \nThis series is inspired by the work 
 of Margaret Lynch and Rhys Thomas in their course The 7 Levels of Weal
 th Manifestation.\n \nTo sign up and learn more-click here!\n\nFor mo
 re information visit http://tappingstar.com/events/chakra-tapping-find
 -the-star
DTSTART;TZID=America/New_York:20110707T130000
DTEND;TZID=America/New_York:20110728T143000
CATEGORIES:teleclass, on, thursday, in, "july!"
LOCATION:Teleclass meets 7/7, 7/14,7/21, 7/28
WEBSITE:http://bit.ly/kANXDK
URL:http://bit.ly/kANXDK
CONTACT:808-965-8421
ORGANIZER;CN="Shakti Martin":http://tappingstar.com/profile/ShaktiMart
 in
ATTACH;FMTTYPE="image/jpeg":http://storage.ning.com/topology/rest/1.0/
 file/get/2044210830?profile=original
ATTENDEE;ROLE=REQ-PARTICIPANT;PARTSTAT=ACCEPTED;RSVP=TRUE;CN="Shakti M
 artin":http://tappingstar.com/profile/ShaktiMartin
END:VEVENT
END:VCALENDAR
