BEGIN:VCALENDAR
PRODID:NingEventWidget-v1
VERSION:2.0
METHOD:PUBLISH
BEGIN:VTIMEZONE
TZID:America/New_York
X-LIC-LOCATION:America/New_York
BEGIN:DAYLIGHT
TZOFFSETFROM:-0500
TZOFFSETTO:-0400
TZNAME:EDT
DTSTART:19700308T020000
RRULE:FREQ=YEARLY;BYMONTH=3;BYDAY=2SU
END:DAYLIGHT
BEGIN:STANDARD
TZOFFSETFROM:-0400
TZOFFSETTO:-0500
TZNAME:EST
DTSTART:19701101T020000
RRULE:FREQ=YEARLY;BYMONTH=11;BYDAY=1SU
END:STANDARD
END:VTIMEZONE
BEGIN:VEVENT
UID:3909409:Event:15103
DTSTAMP:20260421T002537Z
SUMMARY:Last call for NC this weekend!
DESCRIPTION:This is your last chance - 3 spaces left - to join us in D
 urham for exceptional tapping training.  The next EFT Training for Ma
 stery class is Feb. 28-Mar. 1st.  We'll be at the Healing Touch Cente
 r, focused upon developing practical solutions, confidence and creativ
 e integration of tapping techniques into your life and practice   Th
 is class exceeds AAMET International Level 2 requirements and is suita
 ble for those wanting to become accredited & certified practitioners.
 \n Join us and surprise yourself with how easily your tapping confide
 nce will soar. This class is designed for those who already know how t
 o tap, having taken Level 1 or an equivalent and now are ready to mast
 er the tools on a whole new level.\nMaster Trainer Jondi Whitis is thr
 illed to share her heart-centered, mindfulness approach to learning an
 d using EFT confidently, and for great purpose in the world.  And she
  LOVES working with children and helping others with their issues.  \
 nDetails are on the EFT4Results site, under the Training tab. Only 3 s
 paces are left, so don't miss the opportunity to learn in an intimate,
  supportive group setting with a joyful trainer who'll de-mystify it a
 ll!\n\nFor more information visit http://tappingstar.com/events/any-se
 -usa-tappers-out-there-coming-to-nc
DTSTART;TZID=America/New_York:20150228T090000
DTEND;TZID=America/New_York:20150301T170000
CATEGORIES:eft, training, meets, "&", exceeds, aamet, regulations
LOCATION:Healing Touch Center
WEBSITE:http://eft4Results.com/training-for
URL:http://eft4Results.com/training-for
CONTACT:919-813-8922
ORGANIZER:Jondi Whitis & Barbara Karas
ATTACH;FMTTYPE="image/jpeg":
ATTENDEE;ROLE=REQ-PARTICIPANT;PARTSTAT=ACCEPTED;RSVP=TRUE;CN="Jondi Wh
 itis":http://tappingstar.com/profile/JondiWhitis
END:VEVENT
END:VCALENDAR
