BEGIN:VCALENDAR
PRODID:NingEventWidget-v1
VERSION:2.0
METHOD:PUBLISH
BEGIN:VTIMEZONE
TZID:America/New_York
X-LIC-LOCATION:America/New_York
BEGIN:DAYLIGHT
TZOFFSETFROM:-0500
TZOFFSETTO:-0400
TZNAME:EDT
DTSTART:19700308T020000
RRULE:FREQ=YEARLY;BYMONTH=3;BYDAY=2SU
END:DAYLIGHT
BEGIN:STANDARD
TZOFFSETFROM:-0400
TZOFFSETTO:-0500
TZNAME:EST
DTSTART:19701101T020000
RRULE:FREQ=YEARLY;BYMONTH=11;BYDAY=1SU
END:STANDARD
END:VTIMEZONE
BEGIN:VEVENT
UID:3909409:Event:14641
DTSTAMP:20260421T001542Z
SUMMARY:Advanced EFT Training for Practitioners & Licensed Professiona
 ls
DESCRIPTION:Advanced Practitioners & Licensed Professionals...We're ho
 lding another spectacular EFT Training for you in the Newtown-SandyHoo
 k, CT area.  This specialized training is by invitation only; if inte
 rested, con act me right away: Jondi@TappingStar\nWe've been training 
 serious students of EFT, more and more of them licensed healthcare pro
 fessionals.  Teaching for skills mastery and seamless integration int
 o private or community practice is fast becoming our trademark in thes
 e intensive, hands-on classes.  Our goal is nothing less than making 
 a different kind of ETF practitioner.  \nFull mentoring at basic and 
 advanced levels are available from Master Trainers.  For more details
  on curriculum, please see our extensive site:  www.EFTTrainingForMas
 tery.com\nWe hope to see you in August!\nContact: Jondi Whitis, Master
  Trainer, Jondi@eft4Results.com\n\n\nFor more information visit http:/
 /tappingstar.com/events/advanced-eft-training-for-practitioners-licens
 ed-professionals
DTSTART;TZID=America/New_York:20140816T000000
DTEND;TZID=America/New_York:20140817T235900
CATEGORIES:formal, advanced, eft, training
LOCATION:Newtown-Sandy Hook, CT
WEBSITE:http://www.eftTrainingForMastery.com
URL:http://www.eftTrainingForMastery.com
CONTACT:347.967.6444
ORGANIZER:Jondi Whitis, on behalf of the Newtown Community Trauma Reli
 ef & Resiliency Project
ATTACH;FMTTYPE="image/jpeg":http://storage.ning.com/topology/rest/1.0/
 file/get/2044211228?profile=original
ATTENDEE;ROLE=REQ-PARTICIPANT;PARTSTAT=ACCEPTED;RSVP=TRUE;CN="Jondi Wh
 itis":http://tappingstar.com/profile/JondiWhitis
END:VEVENT
END:VCALENDAR
