BEGIN:VCALENDAR
PRODID:NingEventWidget-v1
VERSION:2.0
METHOD:PUBLISH
BEGIN:VTIMEZONE
TZID:America/New_York
X-LIC-LOCATION:America/New_York
BEGIN:DAYLIGHT
TZOFFSETFROM:-0500
TZOFFSETTO:-0400
TZNAME:EDT
DTSTART:19700308T020000
RRULE:FREQ=YEARLY;BYMONTH=3;BYDAY=2SU
END:DAYLIGHT
BEGIN:STANDARD
TZOFFSETFROM:-0400
TZOFFSETTO:-0500
TZNAME:EST
DTSTART:19701101T020000
RRULE:FREQ=YEARLY;BYMONTH=11;BYDAY=1SU
END:STANDARD
END:VTIMEZONE
BEGIN:VEVENT
UID:3909409:Event:14979
DTSTAMP:20260419T195740Z
SUMMARY:4 Creative Ways to Help & Understand Children
DESCRIPTION:Know a child that's struggling to make sense of their worl
 d?  One that has already been through 'too much?' Or even one that's 
 forgotten their magical nature of creativity and solutions to keep the
 mselves safe... if so, join us.  \nTappingStar welcomes child expert
  Susan Kennard to share her years of experience and creative intervent
 ions with you, to enhance your skills and inspire new approaches that 
 will serve children and young people, both now and as they grow.    
 Susan de-mystifies the perceptual groweth process of beliefs and subse
 quent behaviors, and advances our understanding and how to energetica
 lly transform these with the child.\nHer years in child protection an
 d early trauma/PTSD are put to good use, enhancing your understandin
 g and skills to work more effectively with children and young people. 
  You'll hear about Susan's favorite 4 protocols, learning what they'r
 e for and how they can help your child or young client.  Listen, lear
 n and pass the knowledge forward!\nTappingStar host Jondi Whitis leads
  another lively discussion of how you can help young ones to a better 
 future that will beenfit all of us, using creative, transformative en
 ergy and tapping techniques.  Let's make a better future...NOW.  Jon
 di@TappingStar.com\n\nFor more information visit http://tappingstar.co
 m/events/4-creative-ways-to-help-understand-children
DTSTART;TZID=America/New_York:20150319T200000
DTEND;TZID=America/New_York:20150319T210000
CATEGORIES:live, tapping, podcast
LOCATION:BlogTalkRadio.com and EFTradioOnline.com
WEBSITE:http://www.blogtalkradio.com/eftradio/2015/03/20/understanding
 -children-4-creative-tapping-transformations
URL:http://www.blogtalkradio.com/eftradio/2015/03/20/understanding-chi
 ldren-4-creative-tapping-transformations
CONTACT:347-215-6833
ORGANIZER:Jondi Whitis, coFounder, TappingStar
ATTACH;FMTTYPE="image/jpeg":
ATTENDEE;ROLE=REQ-PARTICIPANT;PARTSTAT=ACCEPTED;RSVP=TRUE;CN="Judy Alb
 erts":http://tappingstar.com/profile/JudyAlberts
ATTENDEE;ROLE=REQ-PARTICIPANT;PARTSTAT=ACCEPTED;RSVP=TRUE;CN=GaynorD:h
 ttp://tappingstar.com/profile/GaynorD
ATTENDEE;ROLE=REQ-PARTICIPANT;PARTSTAT=ACCEPTED;RSVP=TRUE;CN="Jondi Wh
 itis":http://tappingstar.com/profile/JondiWhitis
ATTENDEE;ROLE=REQ-PARTICIPANT;PARTSTAT=TENTATIVE;RSVP=TRUE;CN="kathy k
 ane":http://tappingstar.com/profile/kathykane
ATTENDEE;ROLE=REQ-PARTICIPANT;PARTSTAT=TENTATIVE;RSVP=TRUE;CN="Bridget
  McGee":http://tappingstar.com/profile/BridgetMcGee
END:VEVENT
END:VCALENDAR
